0.2500000000
0.0000000000
0.0000000000
-0.2500000000
500925.3750000000
317940.6250000000
