0.2500000000
0.0000000000
0.0000000000
-0.2500000000
501008.8750000000
320217.3750000000
