0.2500000000
0.0000000000
0.0000000000
-0.2500000000
497643.8750000000
320341.1250000000
