0.2500000000
0.0000000000
0.0000000000
-0.2500000000
501092.6250000000
322494.1250000000
