0.2500000000
0.0000000000
0.0000000000
-0.2500000000
501176.1250000000
324770.6250000000
