0.2500000000
0.0000000000
0.0000000000
-0.2500000000
497727.8750000000
322617.8750000000
