0.2500000000
0.0000000000
0.0000000000
-0.2500000000
497811.8750000000
324894.3750000000
