0.2500000000
0.0000000000
0.0000000000
-0.2500000000
501259.6250000000
327047.3750000000
