0.2500000000
0.0000000000
0.0000000000
-0.2500000000
501343.1250000000
329324.1250000000
