0.2500000000
0.0000000000
0.0000000000
-0.2500000000
497895.6250000000
327171.1250000000
