0.2500000000
0.0000000000
0.0000000000
-0.2500000000
497979.6250000000
329447.8750000000
