0.2500000000
0.0000000000
0.0000000000
-0.2500000000
501426.8750000000
331600.8750000000
