0.2500000000
0.0000000000
0.0000000000
-0.2500000000
501510.3750000000
333877.3750000000
