0.2500000000
0.0000000000
0.0000000000
-0.2500000000
498063.6250000000
331724.3750000000
