0.2500000000
0.0000000000
0.0000000000
-0.2500000000
498147.3750000000
334001.1250000000
