0.2500000000
0.0000000000
0.0000000000
-0.2500000000
511104.1250000000
319849.1250000000
