0.2500000000
0.0000000000
0.0000000000
-0.2500000000
507656.1250000000
317694.6250000000
