0.2500000000
0.0000000000
0.0000000000
-0.2500000000
507738.8750000000
319971.3750000000
