0.2500000000
0.0000000000
0.0000000000
-0.2500000000
504290.6250000000
317817.3750000000
