0.2500000000
0.0000000000
0.0000000000
-0.2500000000
504373.8750000000
320094.1250000000
