0.2500000000
0.0000000000
0.0000000000
-0.2500000000
514633.3750000000
324280.8750000000
