0.2500000000
0.0000000000
0.0000000000
-0.2500000000
511186.6250000000
322125.8750000000
