0.2500000000
0.0000000000
0.0000000000
-0.2500000000
511269.1250000000
324402.6250000000
