0.2500000000
0.0000000000
0.0000000000
-0.2500000000
507904.8750000000
324524.8750000000
