0.2500000000
0.0000000000
0.0000000000
-0.2500000000
504457.1250000000
322370.8750000000
