0.2500000000
0.0000000000
0.0000000000
-0.2500000000
504540.3750000000
324647.3750000000
