0.2500000000
0.0000000000
0.0000000000
-0.2500000000
514715.6250000000
326557.6250000000
