0.2500000000
0.0000000000
0.0000000000
-0.2500000000
514797.8750000000
328834.3750000000
