0.2500000000
0.0000000000
0.0000000000
-0.2500000000
511351.6250000000
326679.3750000000
