0.2500000000
0.0000000000
0.0000000000
-0.2500000000
511434.1250000000
328956.1250000000
