0.2500000000
0.0000000000
0.0000000000
-0.2500000000
507987.6250000000
326801.3750000000
