0.2500000000
0.0000000000
0.0000000000
-0.2500000000
508070.6250000000
329078.1250000000
