0.2500000000
0.0000000000
0.0000000000
-0.2500000000
504623.6250000000
326924.1250000000
