0.2500000000
0.0000000000
0.0000000000
-0.2500000000
504706.8750000000
329200.8750000000
