0.2500000000
0.0000000000
0.0000000000
-0.2500000000
511516.6250000000
331232.6250000000
