0.2500000000
0.0000000000
0.0000000000
-0.2500000000
511599.1250000000
333509.3750000000
