0.2500000000
0.0000000000
0.0000000000
-0.2500000000
508153.3750000000
331354.8750000000
