0.2500000000
0.0000000000
0.0000000000
-0.2500000000
508236.3750000000
333631.6250000000
