0.2500000000
0.0000000000
0.0000000000
-0.2500000000
504790.1250000000
331477.6250000000
