0.2500000000
0.0000000000
0.0000000000
-0.2500000000
504873.3750000000
333754.3750000000
