<VRTDataset rasterXSize="60040" rasterYSize="108040"> <SRS dataAxisToSRSAxisMapping="1,2">PROJCS["NAD83(2011) / UTM zone 15N",GEOGCS["NAD83(2011)",DATUM["NAD83_National_Spatial_Reference_System_2011",SPHEROID["GRS 1980",6378137,298.257222101,AUTHORITY["EPSG","7019"]],AUTHORITY["EPSG","1116"]],PRIMEM["Greenwich",0,AUTHORITY["EPSG","8901"]],UNIT["degree",0.0174532925199433,AUTHORITY["EPSG","9122"]],AUTHORITY["EPSG","6318"]],PROJECTION["Transverse_Mercator"],PARAMETER["latitude_of_origin",0],PARAMETER["central_meridian",-93],PARAMETER["scale_factor",0.9996],PARAMETER["false_easting",500000],PARAMETER["false_northing",0],UNIT["metre",1,AUTHORITY["EPSG","9001"]],AXIS["Easting",EAST],AXIS["Northing",NORTH],AUTHORITY["EPSG","6344"]]</SRS> <GeoTransform> 6.6299500000000000e+05, 2.5000000000000000e-01, 0.0000000000000000e+00, 3.3870050000000000e+06, 0.0000000000000000e+00, -2.5000000000000000e-01</GeoTransform> <VRTRasterBand dataType="Byte" band="1"> <ColorInterp>Red</ColorInterp> <SimpleSource> <SourceFilename relativeToVRT="1">./669000e3372000n.tif</SourceFilename> <SourceBand>1</SourceBand> <SourceProperties RasterXSize="12040" RasterYSize="12040" DataType="Byte" BlockXSize="512" BlockYSize="512" /> <SrcRect xOff="0" yOff="0" xSize="12040" ySize="12040" /> <DstRect xOff="24000" yOff="60000" xSize="12040" ySize="12040" /> </SimpleSource> <SimpleSource> <SourceFilename relativeToVRT="1">./669000e3375000n.tif</SourceFilename> <SourceBand>1</SourceBand> <SourceProperties RasterXSize="12040" RasterYSize="12040" DataType="Byte" BlockXSize="512" BlockYSize="512" /> <SrcRect xOff="0" yOff="0" xSize="12040" ySize="12040" /> <DstRect xOff="24000" yOff="48000" xSize="12040" ySize="12040" /> </SimpleSource> <SimpleSource> <SourceFilename relativeToVRT="1">./669000e3378000n.tif</SourceFilename> <SourceBand>1</SourceBand> <SourceProperties RasterXSize="12040" RasterYSize="12040" DataType="Byte" BlockXSize="512" BlockYSize="512" /> <SrcRect xOff="0" yOff="0" xSize="12040" ySize="12040" /> <DstRect xOff="24000" yOff="36000" xSize="12040" ySize="12040" /> </SimpleSource> <SimpleSource> <SourceFilename relativeToVRT="1">./669000e3381000n.tif</SourceFilename> <SourceBand>1</SourceBand> <SourceProperties RasterXSize="12040" RasterYSize="12040" DataType="Byte" BlockXSize="512" BlockYSize="512" /> <SrcRect xOff="0" yOff="0" xSize="12040" ySize="12040" /> <DstRect xOff="24000" yOff="24000" xSize="12040" ySize="12040" /> </SimpleSource> <SimpleSource> <SourceFilename relativeToVRT="1">./669000e3384000n.tif</SourceFilename> <SourceBand>1</SourceBand> <SourceProperties RasterXSize="12040" RasterYSize="12040" DataType="Byte" BlockXSize="512" BlockYSize="512" /> <SrcRect xOff="0" yOff="0" xSize="12040" ySize="12040" /> <DstRect xOff="24000" yOff="12000" xSize="12040" ySize="12040" /> </SimpleSource> <SimpleSource> <SourceFilename relativeToVRT="1">./669000e3387000n.tif</SourceFilename> <SourceBand>1</SourceBand> <SourceProperties RasterXSize="12040" RasterYSize="12040" DataType="Byte" BlockXSize="512" BlockYSize="512" /> <SrcRect xOff="0" yOff="0" xSize="12040" ySize="12040" /> <DstRect xOff="24000" yOff="0" xSize="12040" ySize="12040" /> </SimpleSource> <SimpleSource> <SourceFilename relativeToVRT="1">./672000e3363000n.tif</SourceFilename> <SourceBand>1</SourceBand> <SourceProperties RasterXSize="12040" RasterYSize="12040" DataType="Byte" BlockXSize="512" BlockYSize="512" /> <SrcRect xOff="0" yOff="0" xSize="12040" ySize="12040" /> <DstRect xOff="36000" yOff="96000" xSize="12040" ySize="12040" /> </SimpleSource> <SimpleSource> <SourceFilename relativeToVRT="1">./672000e3366000n.tif</SourceFilename> <SourceBand>1</SourceBand> <SourceProperties RasterXSize="12040" RasterYSize="12040" DataType="Byte" BlockXSize="512" BlockYSize="512" /> <SrcRect xOff="0" yOff="0" xSize="12040" ySize="12040" /> <DstRect xOff="36000" yOff="84000" xSize="12040" ySize="12040" /> </SimpleSource> <SimpleSource> <SourceFilename relativeToVRT="1">./672000e3369000n.tif</SourceFilename> <SourceBand>1</SourceBand> <SourceProperties RasterXSize="12040" RasterYSize="12040" DataType="Byte" BlockXSize="512" BlockYSize="512" /> <SrcRect xOff="0" yOff="0" xSize="12040" ySize="12040" /> <DstRect xOff="36000" yOff="72000" xSize="12040" ySize="12040" /> </SimpleSource> <SimpleSource> <SourceFilename relativeToVRT="1">./672000e3372000n.tif</SourceFilename> <SourceBand>1</SourceBand> <SourceProperties RasterXSize="12040" RasterYSize="12040" DataType="Byte" BlockXSize="512" BlockYSize="512" /> <SrcRect xOff="0" yOff="0" xSize="12040" ySize="12040" /> <DstRect xOff="36000" yOff="60000" xSize="12040" ySize="12040" /> </SimpleSource> <SimpleSource> <SourceFilename relativeToVRT="1">./672000e3375000n.tif</SourceFilename> <SourceBand>1</SourceBand> <SourceProperties RasterXSize="12040" RasterYSize="12040" DataType="Byte" BlockXSize="512" BlockYSize="512" /> <SrcRect xOff="0" yOff="0" xSize="12040" ySize="12040" /> <DstRect xOff="36000" yOff="48000" xSize="12040" ySize="12040" /> </SimpleSource> <SimpleSource> <SourceFilename relativeToVRT="1">./672000e3378000n.tif</SourceFilename> <SourceBand>1</SourceBand> <SourceProperties RasterXSize="12040" RasterYSize="12040" DataType="Byte" BlockXSize="512" BlockYSize="512" /> <SrcRect xOff="0" yOff="0" xSize="12040" ySize="12040" /> <DstRect xOff="36000" yOff="36000" xSize="12040" ySize="12040" /> </SimpleSource> <SimpleSource> <SourceFilename relativeToVRT="1">./672000e3381000n.tif</SourceFilename> <SourceBand>1</SourceBand> <SourceProperties RasterXSize="12040" RasterYSize="12040" DataType="Byte" BlockXSize="512" BlockYSize="512" /> <SrcRect xOff="0" yOff="0" xSize="12040" ySize="12040" /> <DstRect xOff="36000" yOff="24000" xSize="12040" ySize="12040" /> </SimpleSource> <SimpleSource> <SourceFilename relativeToVRT="1">./672000e3384000n.tif</SourceFilename> <SourceBand>1</SourceBand> <SourceProperties RasterXSize="12040" RasterYSize="12040" DataType="Byte" BlockXSize="512" BlockYSize="512" /> <SrcRect xOff="0" yOff="0" xSize="12040" ySize="12040" /> <DstRect xOff="36000" yOff="12000" xSize="12040" ySize="12040" /> </SimpleSource> <SimpleSource> <SourceFilename relativeToVRT="1">./672000e3387000n.tif</SourceFilename> <SourceBand>1</SourceBand> <SourceProperties RasterXSize="12040" RasterYSize="12040" DataType="Byte" BlockXSize="512" BlockYSize="512" /> <SrcRect xOff="0" yOff="0" xSize="12040" ySize="12040" /> <DstRect xOff="36000" yOff="0" xSize="12040" ySize="12040" /> </SimpleSource> <SimpleSource> <SourceFilename relativeToVRT="1">./675000e3363000n.tif</SourceFilename> <SourceBand>1</SourceBand> <SourceProperties RasterXSize="12040" RasterYSize="12040" DataType="Byte" BlockXSize="512" BlockYSize="512" /> <SrcRect xOff="0" yOff="0" xSize="12040" ySize="12040" /> <DstRect xOff="48000" yOff="96000" xSize="12040" ySize="12040" /> </SimpleSource> <SimpleSource> <SourceFilename relativeToVRT="1">./675000e3366000n.tif</SourceFilename> <SourceBand>1</SourceBand> <SourceProperties RasterXSize="12040" RasterYSize="12040" DataType="Byte" BlockXSize="512" BlockYSize="512" /> <SrcRect xOff="0" yOff="0" xSize="12040" ySize="12040" /> <DstRect xOff="48000" yOff="84000" xSize="12040" ySize="12040" /> </SimpleSource> <SimpleSource> <SourceFilename relativeToVRT="1">./675000e3369000n.tif</SourceFilename> <SourceBand>1</SourceBand> <SourceProperties RasterXSize="12040" RasterYSize="12040" DataType="Byte" BlockXSize="512" BlockYSize="512" /> <SrcRect xOff="0" yOff="0" xSize="12040" ySize="12040" /> <DstRect xOff="48000" yOff="72000" xSize="12040" ySize="12040" /> </SimpleSource> <SimpleSource> <SourceFilename relativeToVRT="1">./675000e3372000n.tif</SourceFilename> <SourceBand>1</SourceBand> <SourceProperties RasterXSize="12040" RasterYSize="12040" DataType="Byte" BlockXSize="512" BlockYSize="512" /> <SrcRect xOff="0" yOff="0" xSize="12040" ySize="12040" /> <DstRect xOff="48000" yOff="60000" xSize="12040" ySize="12040" /> </SimpleSource> <SimpleSource> <SourceFilename relativeToVRT="1">./663000e3369000n.tif</SourceFilename> <SourceBand>1</SourceBand> <SourceProperties RasterXSize="12040" RasterYSize="12040" DataType="Byte" BlockXSize="512" BlockYSize="512" /> <SrcRect xOff="0" yOff="0" xSize="12040" ySize="12040" /> <DstRect xOff="0" yOff="72000" xSize="12040" ySize="12040" /> </SimpleSource> <SimpleSource> <SourceFilename relativeToVRT="1">./663000e3372000n.tif</SourceFilename> <SourceBand>1</SourceBand> <SourceProperties RasterXSize="12040" RasterYSize="12040" DataType="Byte" BlockXSize="512" BlockYSize="512" /> <SrcRect xOff="0" yOff="0" xSize="12040" ySize="12040" /> <DstRect xOff="0" yOff="60000" xSize="12040" ySize="12040" /> </SimpleSource> <SimpleSource> <SourceFilename relativeToVRT="1">./666000e3369000n.tif</SourceFilename> <SourceBand>1</SourceBand> <SourceProperties RasterXSize="12040" RasterYSize="12040" DataType="Byte" BlockXSize="512" BlockYSize="512" /> <SrcRect xOff="0" yOff="0" xSize="12040" ySize="12040" /> <DstRect xOff="12000" yOff="72000" xSize="12040" ySize="12040" /> </SimpleSource> <SimpleSource> <SourceFilename relativeToVRT="1">./666000e3372000n.tif</SourceFilename> <SourceBand>1</SourceBand> <SourceProperties RasterXSize="12040" RasterYSize="12040" DataType="Byte" BlockXSize="512" BlockYSize="512" /> <SrcRect xOff="0" yOff="0" xSize="12040" ySize="12040" /> <DstRect xOff="12000" yOff="60000" xSize="12040" ySize="12040" /> </SimpleSource> <SimpleSource> <SourceFilename relativeToVRT="1">./669000e3366000n.tif</SourceFilename> <SourceBand>1</SourceBand> <SourceProperties RasterXSize="12040" RasterYSize="12040" DataType="Byte" BlockXSize="512" BlockYSize="512" /> <SrcRect xOff="0" yOff="0" xSize="12040" ySize="12040" /> <DstRect xOff="24000" yOff="84000" xSize="12040" ySize="12040" /> </SimpleSource> <SimpleSource> <SourceFilename relativeToVRT="1">./669000e3369000n.tif</SourceFilename> <SourceBand>1</SourceBand> <SourceProperties RasterXSize="12040" RasterYSize="12040" DataType="Byte" BlockXSize="512" BlockYSize="512" /> <SrcRect xOff="0" yOff="0" xSize="12040" ySize="12040" /> <DstRect xOff="24000" yOff="72000" xSize="12040" ySize="12040" /> </SimpleSource> </VRTRasterBand> <VRTRasterBand dataType="Byte" band="2"> <ColorInterp>Green</ColorInterp> <SimpleSource> <SourceFilename relativeToVRT="1">./669000e3372000n.tif</SourceFilename> <SourceBand>2</SourceBand> <SourceProperties RasterXSize="12040" RasterYSize="12040" DataType="Byte" BlockXSize="512" BlockYSize="512" /> <SrcRect xOff="0" yOff="0" xSize="12040" ySize="12040" /> <DstRect xOff="24000" yOff="60000" xSize="12040" ySize="12040" /> </SimpleSource> <SimpleSource> <SourceFilename relativeToVRT="1">./669000e3375000n.tif</SourceFilename> <SourceBand>2</SourceBand> <SourceProperties RasterXSize="12040" RasterYSize="12040" DataType="Byte" BlockXSize="512" BlockYSize="512" /> <SrcRect xOff="0" yOff="0" xSize="12040" ySize="12040" /> <DstRect xOff="24000" yOff="48000" xSize="12040" ySize="12040" /> </SimpleSource> <SimpleSource> <SourceFilename relativeToVRT="1">./669000e3378000n.tif</SourceFilename> <SourceBand>2</SourceBand> <SourceProperties RasterXSize="12040" RasterYSize="12040" DataType="Byte" BlockXSize="512" BlockYSize="512" /> <SrcRect xOff="0" yOff="0" xSize="12040" ySize="12040" /> <DstRect xOff="24000" yOff="36000" xSize="12040" ySize="12040" /> </SimpleSource> <SimpleSource> <SourceFilename relativeToVRT="1">./669000e3381000n.tif</SourceFilename> <SourceBand>2</SourceBand> <SourceProperties RasterXSize="12040" RasterYSize="12040" DataType="Byte" BlockXSize="512" BlockYSize="512" /> <SrcRect xOff="0" yOff="0" xSize="12040" ySize="12040" /> <DstRect xOff="24000" yOff="24000" xSize="12040" ySize="12040" /> </SimpleSource> <SimpleSource> <SourceFilename relativeToVRT="1">./669000e3384000n.tif</SourceFilename> <SourceBand>2</SourceBand> <SourceProperties RasterXSize="12040" RasterYSize="12040" DataType="Byte" BlockXSize="512" BlockYSize="512" /> <SrcRect xOff="0" yOff="0" xSize="12040" ySize="12040" /> <DstRect xOff="24000" yOff="12000" xSize="12040" ySize="12040" /> </SimpleSource> <SimpleSource> <SourceFilename relativeToVRT="1">./669000e3387000n.tif</SourceFilename> <SourceBand>2</SourceBand> <SourceProperties RasterXSize="12040" RasterYSize="12040" DataType="Byte" BlockXSize="512" BlockYSize="512" /> <SrcRect xOff="0" yOff="0" xSize="12040" ySize="12040" /> <DstRect xOff="24000" yOff="0" xSize="12040" ySize="12040" /> </SimpleSource> <SimpleSource> <SourceFilename relativeToVRT="1">./672000e3363000n.tif</SourceFilename> <SourceBand>2</SourceBand> <SourceProperties RasterXSize="12040" RasterYSize="12040" DataType="Byte" BlockXSize="512" BlockYSize="512" /> <SrcRect xOff="0" yOff="0" xSize="12040" ySize="12040" /> <DstRect xOff="36000" yOff="96000" xSize="12040" ySize="12040" /> </SimpleSource> <SimpleSource> <SourceFilename relativeToVRT="1">./672000e3366000n.tif</SourceFilename> <SourceBand>2</SourceBand> <SourceProperties RasterXSize="12040" RasterYSize="12040" DataType="Byte" BlockXSize="512" BlockYSize="512" /> <SrcRect xOff="0" yOff="0" xSize="12040" ySize="12040" /> <DstRect xOff="36000" yOff="84000" xSize="12040" ySize="12040" /> </SimpleSource> <SimpleSource> <SourceFilename relativeToVRT="1">./672000e3369000n.tif</SourceFilename> <SourceBand>2</SourceBand> <SourceProperties RasterXSize="12040" RasterYSize="12040" DataType="Byte" BlockXSize="512" BlockYSize="512" /> <SrcRect xOff="0" yOff="0" xSize="12040" ySize="12040" /> <DstRect xOff="36000" yOff="72000" xSize="12040" ySize="12040" /> </SimpleSource> <SimpleSource> <SourceFilename relativeToVRT="1">./672000e3372000n.tif</SourceFilename> <SourceBand>2</SourceBand> <SourceProperties RasterXSize="12040" RasterYSize="12040" DataType="Byte" BlockXSize="512" BlockYSize="512" /> <SrcRect xOff="0" yOff="0" xSize="12040" ySize="12040" /> <DstRect xOff="36000" yOff="60000" xSize="12040" ySize="12040" /> </SimpleSource> <SimpleSource> <SourceFilename relativeToVRT="1">./672000e3375000n.tif</SourceFilename> <SourceBand>2</SourceBand> <SourceProperties RasterXSize="12040" RasterYSize="12040" DataType="Byte" BlockXSize="512" BlockYSize="512" /> <SrcRect xOff="0" yOff="0" xSize="12040" ySize="12040" /> <DstRect xOff="36000" yOff="48000" xSize="12040" ySize="12040" /> </SimpleSource> <SimpleSource> <SourceFilename relativeToVRT="1">./672000e3378000n.tif</SourceFilename> <SourceBand>2</SourceBand> <SourceProperties RasterXSize="12040" RasterYSize="12040" DataType="Byte" BlockXSize="512" BlockYSize="512" /> <SrcRect xOff="0" yOff="0" xSize="12040" ySize="12040" /> <DstRect xOff="36000" yOff="36000" xSize="12040" ySize="12040" /> </SimpleSource> <SimpleSource> <SourceFilename relativeToVRT="1">./672000e3381000n.tif</SourceFilename> <SourceBand>2</SourceBand> <SourceProperties RasterXSize="12040" RasterYSize="12040" DataType="Byte" BlockXSize="512" BlockYSize="512" /> <SrcRect xOff="0" yOff="0" xSize="12040" ySize="12040" /> <DstRect xOff="36000" yOff="24000" xSize="12040" ySize="12040" /> </SimpleSource> <SimpleSource> <SourceFilename relativeToVRT="1">./672000e3384000n.tif</SourceFilename> <SourceBand>2</SourceBand> <SourceProperties RasterXSize="12040" RasterYSize="12040" DataType="Byte" BlockXSize="512" BlockYSize="512" /> <SrcRect xOff="0" yOff="0" xSize="12040" ySize="12040" /> <DstRect xOff="36000" yOff="12000" xSize="12040" ySize="12040" /> </SimpleSource> <SimpleSource> <SourceFilename relativeToVRT="1">./672000e3387000n.tif</SourceFilename> <SourceBand>2</SourceBand> <SourceProperties RasterXSize="12040" RasterYSize="12040" DataType="Byte" BlockXSize="512" BlockYSize="512" /> <SrcRect xOff="0" yOff="0" xSize="12040" ySize="12040" /> <DstRect xOff="36000" yOff="0" xSize="12040" ySize="12040" /> </SimpleSource> <SimpleSource> <SourceFilename relativeToVRT="1">./675000e3363000n.tif</SourceFilename> <SourceBand>2</SourceBand> <SourceProperties RasterXSize="12040" RasterYSize="12040" DataType="Byte" BlockXSize="512" BlockYSize="512" /> <SrcRect xOff="0" yOff="0" xSize="12040" ySize="12040" /> <DstRect xOff="48000" yOff="96000" xSize="12040" ySize="12040" /> </SimpleSource> <SimpleSource> <SourceFilename relativeToVRT="1">./675000e3366000n.tif</SourceFilename> <SourceBand>2</SourceBand> <SourceProperties RasterXSize="12040" RasterYSize="12040" DataType="Byte" BlockXSize="512" BlockYSize="512" /> <SrcRect xOff="0" yOff="0" xSize="12040" ySize="12040" /> <DstRect xOff="48000" yOff="84000" xSize="12040" ySize="12040" /> </SimpleSource> <SimpleSource> <SourceFilename relativeToVRT="1">./675000e3369000n.tif</SourceFilename> <SourceBand>2</SourceBand> <SourceProperties RasterXSize="12040" RasterYSize="12040" DataType="Byte" BlockXSize="512" BlockYSize="512" /> <SrcRect xOff="0" yOff="0" xSize="12040" ySize="12040" /> <DstRect xOff="48000" yOff="72000" xSize="12040" ySize="12040" /> </SimpleSource> <SimpleSource> <SourceFilename relativeToVRT="1">./675000e3372000n.tif</SourceFilename> <SourceBand>2</SourceBand> <SourceProperties RasterXSize="12040" RasterYSize="12040" DataType="Byte" BlockXSize="512" BlockYSize="512" /> <SrcRect xOff="0" yOff="0" xSize="12040" ySize="12040" /> <DstRect xOff="48000" yOff="60000" xSize="12040" ySize="12040" /> </SimpleSource> <SimpleSource> <SourceFilename relativeToVRT="1">./663000e3369000n.tif</SourceFilename> <SourceBand>2</SourceBand> <SourceProperties RasterXSize="12040" RasterYSize="12040" DataType="Byte" BlockXSize="512" BlockYSize="512" /> <SrcRect xOff="0" yOff="0" xSize="12040" ySize="12040" /> <DstRect xOff="0" yOff="72000" xSize="12040" ySize="12040" /> </SimpleSource> <SimpleSource> <SourceFilename relativeToVRT="1">./663000e3372000n.tif</SourceFilename> <SourceBand>2</SourceBand> <SourceProperties RasterXSize="12040" RasterYSize="12040" DataType="Byte" BlockXSize="512" BlockYSize="512" /> <SrcRect xOff="0" yOff="0" xSize="12040" ySize="12040" /> <DstRect xOff="0" yOff="60000" xSize="12040" ySize="12040" /> </SimpleSource> <SimpleSource> <SourceFilename relativeToVRT="1">./666000e3369000n.tif</SourceFilename> <SourceBand>2</SourceBand> <SourceProperties RasterXSize="12040" RasterYSize="12040" DataType="Byte" BlockXSize="512" BlockYSize="512" /> <SrcRect xOff="0" yOff="0" xSize="12040" ySize="12040" /> <DstRect xOff="12000" yOff="72000" xSize="12040" ySize="12040" /> </SimpleSource> <SimpleSource> <SourceFilename relativeToVRT="1">./666000e3372000n.tif</SourceFilename> <SourceBand>2</SourceBand> <SourceProperties RasterXSize="12040" RasterYSize="12040" DataType="Byte" BlockXSize="512" BlockYSize="512" /> <SrcRect xOff="0" yOff="0" xSize="12040" ySize="12040" /> <DstRect xOff="12000" yOff="60000" xSize="12040" ySize="12040" /> </SimpleSource> <SimpleSource> <SourceFilename relativeToVRT="1">./669000e3366000n.tif</SourceFilename> <SourceBand>2</SourceBand> <SourceProperties RasterXSize="12040" RasterYSize="12040" DataType="Byte" BlockXSize="512" BlockYSize="512" /> <SrcRect xOff="0" yOff="0" xSize="12040" ySize="12040" /> <DstRect xOff="24000" yOff="84000" xSize="12040" ySize="12040" /> </SimpleSource> <SimpleSource> <SourceFilename relativeToVRT="1">./669000e3369000n.tif</SourceFilename> <SourceBand>2</SourceBand> <SourceProperties RasterXSize="12040" RasterYSize="12040" DataType="Byte" BlockXSize="512" BlockYSize="512" /> <SrcRect xOff="0" yOff="0" xSize="12040" ySize="12040" /> <DstRect xOff="24000" yOff="72000" xSize="12040" ySize="12040" /> </SimpleSource> </VRTRasterBand> <VRTRasterBand dataType="Byte" band="3"> <ColorInterp>Blue</ColorInterp> <SimpleSource> <SourceFilename relativeToVRT="1">./669000e3372000n.tif</SourceFilename> <SourceBand>3</SourceBand> <SourceProperties RasterXSize="12040" RasterYSize="12040" DataType="Byte" BlockXSize="512" BlockYSize="512" /> <SrcRect xOff="0" yOff="0" xSize="12040" ySize="12040" /> <DstRect xOff="24000" yOff="60000" xSize="12040" ySize="12040" /> </SimpleSource> <SimpleSource> <SourceFilename relativeToVRT="1">./669000e3375000n.tif</SourceFilename> <SourceBand>3</SourceBand> <SourceProperties RasterXSize="12040" RasterYSize="12040" DataType="Byte" BlockXSize="512" BlockYSize="512" /> <SrcRect xOff="0" yOff="0" xSize="12040" ySize="12040" /> <DstRect xOff="24000" yOff="48000" xSize="12040" ySize="12040" /> </SimpleSource> <SimpleSource> <SourceFilename relativeToVRT="1">./669000e3378000n.tif</SourceFilename> <SourceBand>3</SourceBand> <SourceProperties RasterXSize="12040" RasterYSize="12040" DataType="Byte" BlockXSize="512" BlockYSize="512" /> <SrcRect xOff="0" yOff="0" xSize="12040" ySize="12040" /> <DstRect xOff="24000" yOff="36000" xSize="12040" ySize="12040" /> </SimpleSource> <SimpleSource> <SourceFilename relativeToVRT="1">./669000e3381000n.tif</SourceFilename> <SourceBand>3</SourceBand> <SourceProperties RasterXSize="12040" RasterYSize="12040" DataType="Byte" BlockXSize="512" BlockYSize="512" /> <SrcRect xOff="0" yOff="0" xSize="12040" ySize="12040" /> <DstRect xOff="24000" yOff="24000" xSize="12040" ySize="12040" /> </SimpleSource> <SimpleSource> <SourceFilename relativeToVRT="1">./669000e3384000n.tif</SourceFilename> <SourceBand>3</SourceBand> <SourceProperties RasterXSize="12040" RasterYSize="12040" DataType="Byte" BlockXSize="512" BlockYSize="512" /> <SrcRect xOff="0" yOff="0" xSize="12040" ySize="12040" /> <DstRect xOff="24000" yOff="12000" xSize="12040" ySize="12040" /> </SimpleSource> <SimpleSource> <SourceFilename relativeToVRT="1">./669000e3387000n.tif</SourceFilename> <SourceBand>3</SourceBand> <SourceProperties RasterXSize="12040" RasterYSize="12040" DataType="Byte" BlockXSize="512" BlockYSize="512" /> <SrcRect xOff="0" yOff="0" xSize="12040" ySize="12040" /> <DstRect xOff="24000" yOff="0" xSize="12040" ySize="12040" /> </SimpleSource> <SimpleSource> <SourceFilename relativeToVRT="1">./672000e3363000n.tif</SourceFilename> <SourceBand>3</SourceBand> <SourceProperties RasterXSize="12040" RasterYSize="12040" DataType="Byte" BlockXSize="512" BlockYSize="512" /> <SrcRect xOff="0" yOff="0" xSize="12040" ySize="12040" /> <DstRect xOff="36000" yOff="96000" xSize="12040" ySize="12040" /> </SimpleSource> <SimpleSource> <SourceFilename relativeToVRT="1">./672000e3366000n.tif</SourceFilename> <SourceBand>3</SourceBand> <SourceProperties RasterXSize="12040" RasterYSize="12040" DataType="Byte" BlockXSize="512" BlockYSize="512" /> <SrcRect xOff="0" yOff="0" xSize="12040" ySize="12040" /> <DstRect xOff="36000" yOff="84000" xSize="12040" ySize="12040" /> </SimpleSource> <SimpleSource> <SourceFilename relativeToVRT="1">./672000e3369000n.tif</SourceFilename> <SourceBand>3</SourceBand> <SourceProperties RasterXSize="12040" RasterYSize="12040" DataType="Byte" BlockXSize="512" BlockYSize="512" /> <SrcRect xOff="0" yOff="0" xSize="12040" ySize="12040" /> <DstRect xOff="36000" yOff="72000" xSize="12040" ySize="12040" /> </SimpleSource> <SimpleSource> <SourceFilename relativeToVRT="1">./672000e3372000n.tif</SourceFilename> <SourceBand>3</SourceBand> <SourceProperties RasterXSize="12040" RasterYSize="12040" DataType="Byte" BlockXSize="512" BlockYSize="512" /> <SrcRect xOff="0" yOff="0" xSize="12040" ySize="12040" /> <DstRect xOff="36000" yOff="60000" xSize="12040" ySize="12040" /> </SimpleSource> <SimpleSource> <SourceFilename relativeToVRT="1">./672000e3375000n.tif</SourceFilename> <SourceBand>3</SourceBand> <SourceProperties RasterXSize="12040" RasterYSize="12040" DataType="Byte" BlockXSize="512" BlockYSize="512" /> <SrcRect xOff="0" yOff="0" xSize="12040" ySize="12040" /> <DstRect xOff="36000" yOff="48000" xSize="12040" ySize="12040" /> </SimpleSource> <SimpleSource> <SourceFilename relativeToVRT="1">./672000e3378000n.tif</SourceFilename> <SourceBand>3</SourceBand> <SourceProperties RasterXSize="12040" RasterYSize="12040" DataType="Byte" BlockXSize="512" BlockYSize="512" /> <SrcRect xOff="0" yOff="0" xSize="12040" ySize="12040" /> <DstRect xOff="36000" yOff="36000" xSize="12040" ySize="12040" /> </SimpleSource> <SimpleSource> <SourceFilename relativeToVRT="1">./672000e3381000n.tif</SourceFilename> <SourceBand>3</SourceBand> <SourceProperties RasterXSize="12040" RasterYSize="12040" Da