0.0750000000
0.0000000000
0.0000000000
-0.0750000000
560156.7374999999
7817958.4875000007
