0.0750000000
0.0000000000
0.0000000000
-0.0750000000
559156.6875000000
7817958.4875000007
