0.0750000000
0.0000000000
0.0000000000
-0.0750000000
557156.5875000000
7817958.4875000007
