0.0750000000
0.0000000000
0.0000000000
-0.0750000000
556156.5375000000
7818958.5375000006
