0.0750000000
0.0000000000
0.0000000000
-0.0750000000
560156.7374999999
7819958.5875000004
