0.0750000000
0.0000000000
0.0000000000
-0.0750000000
557156.5875000000
7819958.5875000004
