0.0750000000
0.0000000000
0.0000000000
-0.0750000000
560156.7374999999
7820958.6375000002
