0.0750000000
0.0000000000
0.0000000000
-0.0750000000
558156.6375000000
7822958.7375000007
