0.0750000000
0.0000000000
0.0000000000
-0.0750000000
556156.5375000000
7823958.7875000006
